BEGIN:VCALENDAR
VERSION:2.0
PRODID:-//Initiative Alte Schmelz St. Ingbert e.V. - ECPv6.15.20//NONSGML v1.0//EN
CALSCALE:GREGORIAN
METHOD:PUBLISH
X-ORIGINAL-URL:http://alte-schmelz.org
X-WR-CALDESC:Veranstaltungen für Initiative Alte Schmelz St. Ingbert e.V.
REFRESH-INTERVAL;VALUE=DURATION:PT1H
X-Robots-Tag:noindex
X-PUBLISHED-TTL:PT1H
BEGIN:VTIMEZONE
TZID:Europe/Berlin
BEGIN:DAYLIGHT
TZOFFSETFROM:+0100
TZOFFSETTO:+0200
TZNAME:CEST
DTSTART:20170326T010000
END:DAYLIGHT
BEGIN:STANDARD
TZOFFSETFROM:+0200
TZOFFSETTO:+0100
TZNAME:CET
DTSTART:20171029T010000
END:STANDARD
BEGIN:DAYLIGHT
TZOFFSETFROM:+0100
TZOFFSETTO:+0200
TZNAME:CEST
DTSTART:20180325T010000
END:DAYLIGHT
BEGIN:STANDARD
TZOFFSETFROM:+0200
TZOFFSETTO:+0100
TZNAME:CET
DTSTART:20181028T010000
END:STANDARD
BEGIN:DAYLIGHT
TZOFFSETFROM:+0100
TZOFFSETTO:+0200
TZNAME:CEST
DTSTART:20190331T010000
END:DAYLIGHT
BEGIN:STANDARD
TZOFFSETFROM:+0200
TZOFFSETTO:+0100
TZNAME:CET
DTSTART:20191027T010000
END:STANDARD
END:VTIMEZONE
BEGIN:VEVENT
DTSTART;TZID=Europe/Berlin:20180908T100000
DTEND;TZID=Europe/Berlin:20180908T120000
DTSTAMP:20260423T221704
CREATED:20180907T121659Z
LAST-MODIFIED:20180907T121659Z
UID:1372-1536400800-1536408000@alte-schmelz.org
SUMMARY:JET-Club
DESCRIPTION:
URL:http://alte-schmelz.org/event/jet-club/
LOCATION:Elektronikwerkstatt\, Alte Schmelz 66\, St. Ingbert\, Saarland\, 66386\, Deutschland
END:VEVENT
BEGIN:VEVENT
DTSTART;TZID=Europe/Berlin:20180908T140000
DTEND;TZID=Europe/Berlin:20180908T170000
DTSTAMP:20260423T221704
CREATED:20180326T162257Z
LAST-MODIFIED:20180326T165556Z
UID:1255-1536415200-1536426000@alte-schmelz.org
SUMMARY:CoderDojo-IGB
DESCRIPTION:CoderDojo-IGB Informationen
URL:http://alte-schmelz.org/event/coderdojo-igb-5/
LOCATION:Saarland
END:VEVENT
BEGIN:VEVENT
DTSTART;TZID=Europe/Berlin:20180918T193000
DTEND;TZID=Europe/Berlin:20180918T220000
DTSTAMP:20260423T221704
CREATED:20180907T101209Z
LAST-MODIFIED:20180907T101209Z
UID:1369-1537299000-1537308000@alte-schmelz.org
SUMMARY:Wie Computer und intelligente Systeme lernen\, die Welt mit Kameras zu sehen und zu verstehen
DESCRIPTION:Vortrag von Prof. Dr. Christian Theobalt
URL:http://alte-schmelz.org/event/wie-computer-und-intelligente-systeme-lernen-die-welt-mit-kameras-zu-sehen-und-zu-verstehen/
LOCATION:im Konsumgebäude\, Alte Schmelz 64\, St. Ingbert\, Saarland\, 66386\, Deutschland
CATEGORIES:Wissenschaftsforum St. Ingbert
END:VEVENT
BEGIN:VEVENT
DTSTART;TZID=Europe/Berlin:20180929T100000
DTEND;TZID=Europe/Berlin:20180929T120000
DTSTAMP:20260423T221704
CREATED:20180907T122009Z
LAST-MODIFIED:20180907T122009Z
UID:1374-1538215200-1538222400@alte-schmelz.org
SUMMARY:JET-Club
DESCRIPTION:
URL:http://alte-schmelz.org/event/jet-club-2/
LOCATION:Elektronikwerkstatt\, Alte Schmelz 66\, St. Ingbert\, Saarland\, 66386\, Deutschland
END:VEVENT
END:VCALENDAR