BEGIN:VCALENDAR
VERSION:2.0
PRODID:-//Initiative Alte Schmelz St. Ingbert e.V. - ECPv6.15.20//NONSGML v1.0//EN
CALSCALE:GREGORIAN
METHOD:PUBLISH
X-WR-CALNAME:Initiative Alte Schmelz St. Ingbert e.V.
X-ORIGINAL-URL:http://alte-schmelz.org
X-WR-CALDESC:Veranstaltungen für Initiative Alte Schmelz St. Ingbert e.V.
REFRESH-INTERVAL;VALUE=DURATION:PT1H
X-Robots-Tag:noindex
X-PUBLISHED-TTL:PT1H
BEGIN:VTIMEZONE
TZID:Europe/Berlin
BEGIN:DAYLIGHT
TZOFFSETFROM:+0100
TZOFFSETTO:+0200
TZNAME:CEST
DTSTART:20170326T010000
END:DAYLIGHT
BEGIN:STANDARD
TZOFFSETFROM:+0200
TZOFFSETTO:+0100
TZNAME:CET
DTSTART:20171029T010000
END:STANDARD
BEGIN:DAYLIGHT
TZOFFSETFROM:+0100
TZOFFSETTO:+0200
TZNAME:CEST
DTSTART:20180325T010000
END:DAYLIGHT
BEGIN:STANDARD
TZOFFSETFROM:+0200
TZOFFSETTO:+0100
TZNAME:CET
DTSTART:20181028T010000
END:STANDARD
BEGIN:DAYLIGHT
TZOFFSETFROM:+0100
TZOFFSETTO:+0200
TZNAME:CEST
DTSTART:20190331T010000
END:DAYLIGHT
BEGIN:STANDARD
TZOFFSETFROM:+0200
TZOFFSETTO:+0100
TZNAME:CET
DTSTART:20191027T010000
END:STANDARD
END:VTIMEZONE
BEGIN:VEVENT
DTSTART;TZID=Europe/Berlin:20181103T100000
DTEND;TZID=Europe/Berlin:20181103T120000
DTSTAMP:20260422T010425
CREATED:20180907T122846Z
LAST-MODIFIED:20180907T122846Z
UID:1380-1541239200-1541246400@alte-schmelz.org
SUMMARY:JET-Club
DESCRIPTION:
URL:http://alte-schmelz.org/event/jet-club-5/
LOCATION:Elektronikwerkstatt\, Alte Schmelz 66\, St. Ingbert\, Saarland\, 66386\, Deutschland
END:VEVENT
BEGIN:VEVENT
DTSTART;TZID=Europe/Berlin:20181110T140000
DTEND;TZID=Europe/Berlin:20181110T170000
DTSTAMP:20260422T010425
CREATED:20180326T162332Z
LAST-MODIFIED:20180326T165510Z
UID:1257-1541858400-1541869200@alte-schmelz.org
SUMMARY:CoderDojo-IGB
DESCRIPTION:CoderDojo-IGB Informationen
URL:http://alte-schmelz.org/event/coderdojo-igb-6/
LOCATION:Saarland
END:VEVENT
BEGIN:VEVENT
DTSTART;TZID=Europe/Berlin:20181113T193000
DTEND;TZID=Europe/Berlin:20181113T220000
DTSTAMP:20260422T010425
CREATED:20181112T101302Z
LAST-MODIFIED:20181112T101302Z
UID:1474-1542137400-1542146400@alte-schmelz.org
SUMMARY:Künstliche Intelligenz und Computer Vision – Fortschritte in den letzten Jahren und offene Probleme
DESCRIPTION:Ein Vortrag von Prof. Dr. Bernt Schiele
URL:http://alte-schmelz.org/event/kuenstliche-intelligenz-und-computer-vision-fortschritte-in-den-letzten-jahren-und-offene-probleme/
LOCATION:im Konsumgebäude\, Alte Schmelz 64\, St. Ingbert\, Saarland\, 66386\, Deutschland
END:VEVENT
BEGIN:VEVENT
DTSTART;TZID=Europe/Berlin:20181117T100000
DTEND;TZID=Europe/Berlin:20181117T120000
DTSTAMP:20260422T010425
CREATED:20180907T123006Z
LAST-MODIFIED:20180907T123006Z
UID:1382-1542448800-1542456000@alte-schmelz.org
SUMMARY:JET-Club
DESCRIPTION:
URL:http://alte-schmelz.org/event/jet-club-6/
LOCATION:Elektronikwerkstatt\, Alte Schmelz 66\, St. Ingbert\, Saarland\, 66386\, Deutschland
END:VEVENT
END:VCALENDAR